BEGIN:VCALENDAR
VERSION:2.0
PRODID:-//Hidden Lakes RV Resort - ECPv6.15.20//NONSGML v1.0//EN
CALSCALE:GREGORIAN
METHOD:PUBLISH
X-WR-CALNAME:Hidden Lakes RV Resort
X-ORIGINAL-URL:https://hiddenlakesrv.com
X-WR-CALDESC:Events for Hidden Lakes RV Resort
REFRESH-INTERVAL;VALUE=DURATION:PT1H
X-Robots-Tag:noindex
X-PUBLISHED-TTL:PT1H
BEGIN:VTIMEZONE
TZID:UTC
BEGIN:STANDARD
TZOFFSETFROM:+0000
TZOFFSETTO:+0000
TZNAME:UTC
DTSTART:20240101T000000
END:STANDARD
END:VTIMEZONE
BEGIN:VEVENT
DTSTART;VALUE=DATE:20251012
DTEND;VALUE=DATE:20251013
DTSTAMP:20260422T170936
CREATED:20250507T170635Z
LAST-MODIFIED:20250507T170635Z
UID:758-1760227200-1760313599@hiddenlakesrv.com
SUMMARY:Breakfast
DESCRIPTION:
URL:https://hiddenlakesrv.com/event/breakfast-17/
END:VEVENT
BEGIN:VEVENT
DTSTART;VALUE=DATE:20251011
DTEND;VALUE=DATE:20251012
DTSTAMP:20260422T170936
CREATED:20250507T170617Z
LAST-MODIFIED:20250507T170617Z
UID:756-1760140800-1760227199@hiddenlakesrv.com
SUMMARY:Hayride
DESCRIPTION:
URL:https://hiddenlakesrv.com/event/hayride-24/
END:VEVENT
BEGIN:VEVENT
DTSTART;VALUE=DATE:20251011
DTEND;VALUE=DATE:20251012
DTSTAMP:20260422T170936
CREATED:20250507T170602Z
LAST-MODIFIED:20250507T170602Z
UID:754-1760140800-1760227199@hiddenlakesrv.com
SUMMARY:Bounce House
DESCRIPTION:
URL:https://hiddenlakesrv.com/event/bounce-house-8/
END:VEVENT
BEGIN:VEVENT
DTSTART;VALUE=DATE:20251011
DTEND;VALUE=DATE:20251012
DTSTAMP:20260422T170936
CREATED:20250507T170547Z
LAST-MODIFIED:20250925T144345Z
UID:752-1760140800-1760227199@hiddenlakesrv.com
SUMMARY:Halloween Spooktacular Weekend
DESCRIPTION:Halloween weekends will include: \n\nTrick-or-treating\nSite decorating Contest\nCostume Contest\nDance Party\nGuessing Game\nPumpkin Decorating\nHayride
URL:https://hiddenlakesrv.com/event/halloween-spooktacular-weekend-2/
END:VEVENT
BEGIN:VEVENT
DTSTART;VALUE=DATE:20251004
DTEND;VALUE=DATE:20251005
DTSTAMP:20260422T170936
CREATED:20250507T170510Z
LAST-MODIFIED:20250507T170510Z
UID:750-1759536000-1759622399@hiddenlakesrv.com
SUMMARY:Hayride
DESCRIPTION:
URL:https://hiddenlakesrv.com/event/hayride-23/
END:VEVENT
BEGIN:VEVENT
DTSTART;VALUE=DATE:20251004
DTEND;VALUE=DATE:20251005
DTSTAMP:20260422T170936
CREATED:20250507T170456Z
LAST-MODIFIED:20250925T144324Z
UID:748-1759536000-1759622399@hiddenlakesrv.com
SUMMARY:Halloween Spooktacular Weekend
DESCRIPTION:Halloween weekends will include: \n\nTrick-or-treating\nSite decorating Contest\nCostume Contest\nDance Party\nGuessing Game\nPumpkin Decorating\nHayride
URL:https://hiddenlakesrv.com/event/halloween-spooktacular-weekend/
END:VEVENT
BEGIN:VEVENT
DTSTART;VALUE=DATE:20250928
DTEND;VALUE=DATE:20250929
DTSTAMP:20260422T170936
CREATED:20250507T170422Z
LAST-MODIFIED:20250507T170422Z
UID:746-1759017600-1759103999@hiddenlakesrv.com
SUMMARY:Breakfast
DESCRIPTION:
URL:https://hiddenlakesrv.com/event/breakfast-16/
END:VEVENT
BEGIN:VEVENT
DTSTART;VALUE=DATE:20250927
DTEND;VALUE=DATE:20250928
DTSTAMP:20260422T170936
CREATED:20250507T170402Z
LAST-MODIFIED:20250507T170402Z
UID:744-1758931200-1759017599@hiddenlakesrv.com
SUMMARY:Community Campfire
DESCRIPTION:
URL:https://hiddenlakesrv.com/event/community-campfire/
END:VEVENT
BEGIN:VEVENT
DTSTART;VALUE=DATE:20250927
DTEND;VALUE=DATE:20250928
DTSTAMP:20260422T170936
CREATED:20250507T170347Z
LAST-MODIFIED:20250507T170347Z
UID:742-1758931200-1759017599@hiddenlakesrv.com
SUMMARY:Hayride
DESCRIPTION:
URL:https://hiddenlakesrv.com/event/hayride-22/
END:VEVENT
BEGIN:VEVENT
DTSTART;VALUE=DATE:20250927
DTEND;VALUE=DATE:20250928
DTSTAMP:20260422T170936
CREATED:20250507T170332Z
LAST-MODIFIED:20250507T170332Z
UID:740-1758931200-1759017599@hiddenlakesrv.com
SUMMARY:Bounce House
DESCRIPTION:
URL:https://hiddenlakesrv.com/event/bounce-house-7/
END:VEVENT
BEGIN:VEVENT
DTSTART;VALUE=DATE:20250920
DTEND;VALUE=DATE:20250921
DTSTAMP:20260422T170936
CREATED:20250507T170317Z
LAST-MODIFIED:20250507T170317Z
UID:738-1758326400-1758412799@hiddenlakesrv.com
SUMMARY:Craft
DESCRIPTION:
URL:https://hiddenlakesrv.com/event/craft-2/
END:VEVENT
BEGIN:VEVENT
DTSTART;VALUE=DATE:20250914
DTEND;VALUE=DATE:20250915
DTSTAMP:20260422T170936
CREATED:20250507T170256Z
LAST-MODIFIED:20250507T170256Z
UID:736-1757808000-1757894399@hiddenlakesrv.com
SUMMARY:Breakfast
DESCRIPTION:
URL:https://hiddenlakesrv.com/event/breakfast-15/
END:VEVENT
BEGIN:VEVENT
DTSTART;VALUE=DATE:20250913
DTEND;VALUE=DATE:20250914
DTSTAMP:20260422T170936
CREATED:20250507T170221Z
LAST-MODIFIED:20250507T170221Z
UID:732-1757721600-1757807999@hiddenlakesrv.com
SUMMARY:Hayride
DESCRIPTION:
URL:https://hiddenlakesrv.com/event/hayride-21/
END:VEVENT
BEGIN:VEVENT
DTSTART;VALUE=DATE:20250913
DTEND;VALUE=DATE:20250914
DTSTAMP:20260422T170936
CREATED:20250507T170208Z
LAST-MODIFIED:20250507T170208Z
UID:730-1757721600-1757807999@hiddenlakesrv.com
SUMMARY:Chili Cookoff
DESCRIPTION:
URL:https://hiddenlakesrv.com/event/chili-cookoff/
END:VEVENT
BEGIN:VEVENT
DTSTART;VALUE=DATE:20250913
DTEND;VALUE=DATE:20250914
DTSTAMP:20260422T170936
CREATED:20250507T170150Z
LAST-MODIFIED:20250507T170150Z
UID:728-1757721600-1757807999@hiddenlakesrv.com
SUMMARY:Fishing Tournament
DESCRIPTION:
URL:https://hiddenlakesrv.com/event/fishing-tournament-3/
END:VEVENT
BEGIN:VEVENT
DTSTART;VALUE=DATE:20250906
DTEND;VALUE=DATE:20250907
DTSTAMP:20260422T170936
CREATED:20250507T170134Z
LAST-MODIFIED:20250507T170134Z
UID:726-1757116800-1757203199@hiddenlakesrv.com
SUMMARY:Wine Tasting
DESCRIPTION:
URL:https://hiddenlakesrv.com/event/wine-tasting-16/
END:VEVENT
BEGIN:VEVENT
DTSTART;VALUE=DATE:20250906
DTEND;VALUE=DATE:20250907
DTSTAMP:20260422T170936
CREATED:20250507T170115Z
LAST-MODIFIED:20250507T170115Z
UID:724-1757116800-1757203199@hiddenlakesrv.com
SUMMARY:Hayride
DESCRIPTION:
URL:https://hiddenlakesrv.com/event/hayride-20/
END:VEVENT
BEGIN:VEVENT
DTSTART;VALUE=DATE:20250906
DTEND;VALUE=DATE:20250907
DTSTAMP:20260422T170936
CREATED:20250507T170055Z
LAST-MODIFIED:20250507T170055Z
UID:722-1757116800-1757203199@hiddenlakesrv.com
SUMMARY:Bounce House
DESCRIPTION:
URL:https://hiddenlakesrv.com/event/bounce-house-6/
END:VEVENT
BEGIN:VEVENT
DTSTART;VALUE=DATE:20250901
DTEND;VALUE=DATE:20250902
DTSTAMP:20260422T170936
CREATED:20250507T170032Z
LAST-MODIFIED:20250507T170032Z
UID:720-1756684800-1756771199@hiddenlakesrv.com
SUMMARY:Breakfast
DESCRIPTION:
URL:https://hiddenlakesrv.com/event/breakfast-14/
END:VEVENT
BEGIN:VEVENT
DTSTART;VALUE=DATE:20250831
DTEND;VALUE=DATE:20250901
DTSTAMP:20260422T170936
CREATED:20250507T165519Z
LAST-MODIFIED:20250507T165519Z
UID:718-1756598400-1756684799@hiddenlakesrv.com
SUMMARY:S'mores & Community Bonfire
DESCRIPTION:
URL:https://hiddenlakesrv.com/event/smores-community-bonfire-3/
END:VEVENT
BEGIN:VEVENT
DTSTART;VALUE=DATE:20250831
DTEND;VALUE=DATE:20250901
DTSTAMP:20260422T170936
CREATED:20250507T165459Z
LAST-MODIFIED:20250507T165459Z
UID:716-1756598400-1756684799@hiddenlakesrv.com
SUMMARY:Bounce House
DESCRIPTION:
URL:https://hiddenlakesrv.com/event/bounce-house-5/
END:VEVENT
BEGIN:VEVENT
DTSTART;VALUE=DATE:20250831
DTEND;VALUE=DATE:20250901
DTSTAMP:20260422T170936
CREATED:20250507T165440Z
LAST-MODIFIED:20250507T165440Z
UID:714-1756598400-1756684799@hiddenlakesrv.com
SUMMARY:Tie Dying
DESCRIPTION:
URL:https://hiddenlakesrv.com/event/tie-dying-2/
END:VEVENT
BEGIN:VEVENT
DTSTART;VALUE=DATE:20250830
DTEND;VALUE=DATE:20250831
DTSTAMP:20260422T170936
CREATED:20250507T165421Z
LAST-MODIFIED:20250507T165421Z
UID:712-1756512000-1756598399@hiddenlakesrv.com
SUMMARY:Bourbon Tasting
DESCRIPTION:
URL:https://hiddenlakesrv.com/event/bourbon-tasting-5/
END:VEVENT
BEGIN:VEVENT
DTSTART;VALUE=DATE:20250830
DTEND;VALUE=DATE:20250831
DTSTAMP:20260422T170936
CREATED:20250507T165406Z
LAST-MODIFIED:20250507T165406Z
UID:710-1756512000-1756598399@hiddenlakesrv.com
SUMMARY:Hayride
DESCRIPTION:
URL:https://hiddenlakesrv.com/event/hayride-19/
END:VEVENT
BEGIN:VEVENT
DTSTART;VALUE=DATE:20250830
DTEND;VALUE=DATE:20250831
DTSTAMP:20260422T170936
CREATED:20250507T165352Z
LAST-MODIFIED:20250507T165352Z
UID:708-1756512000-1756598399@hiddenlakesrv.com
SUMMARY:Horseshoes
DESCRIPTION:
URL:https://hiddenlakesrv.com/event/horseshoes-2/
END:VEVENT
BEGIN:VEVENT
DTSTART;VALUE=DATE:20250830
DTEND;VALUE=DATE:20250831
DTSTAMP:20260422T170936
CREATED:20250507T165335Z
LAST-MODIFIED:20250507T165335Z
UID:706-1756512000-1756598399@hiddenlakesrv.com
SUMMARY:Yard Games
DESCRIPTION:
URL:https://hiddenlakesrv.com/event/yard-games-2/
END:VEVENT
BEGIN:VEVENT
DTSTART;VALUE=DATE:20250829
DTEND;VALUE=DATE:20250830
DTSTAMP:20260422T170936
CREATED:20250507T165318Z
LAST-MODIFIED:20250507T165318Z
UID:704-1756425600-1756511999@hiddenlakesrv.com
SUMMARY:S'mores & Community Bonfire
DESCRIPTION:
URL:https://hiddenlakesrv.com/event/smores-community-bonfire-2/
END:VEVENT
BEGIN:VEVENT
DTSTART;VALUE=DATE:20250823
DTEND;VALUE=DATE:20250824
DTSTAMP:20260422T170936
CREATED:20250507T165250Z
LAST-MODIFIED:20250507T165250Z
UID:702-1755907200-1755993599@hiddenlakesrv.com
SUMMARY:Community Bonfire
DESCRIPTION:
URL:https://hiddenlakesrv.com/event/community-bonfire-2/
END:VEVENT
BEGIN:VEVENT
DTSTART;VALUE=DATE:20250823
DTEND;VALUE=DATE:20250824
DTSTAMP:20260422T170936
CREATED:20250507T165211Z
LAST-MODIFIED:20250507T165211Z
UID:698-1755907200-1755993599@hiddenlakesrv.com
SUMMARY:Hayride
DESCRIPTION:
URL:https://hiddenlakesrv.com/event/hayride-18/
END:VEVENT
BEGIN:VEVENT
DTSTART;VALUE=DATE:20250823
DTEND;VALUE=DATE:20250824
DTSTAMP:20260422T170936
CREATED:20250507T165146Z
LAST-MODIFIED:20250507T165146Z
UID:696-1755907200-1755993599@hiddenlakesrv.com
SUMMARY:Craft
DESCRIPTION:
URL:https://hiddenlakesrv.com/event/craft/
END:VEVENT
END:VCALENDAR