BEGIN:VCALENDAR
VERSION:2.0
PRODID:-//Hidden Lakes RV Resort - ECPv6.15.20//NONSGML v1.0//EN
CALSCALE:GREGORIAN
METHOD:PUBLISH
X-WR-CALNAME:Hidden Lakes RV Resort
X-ORIGINAL-URL:https://hiddenlakesrv.com
X-WR-CALDESC:Events for Hidden Lakes RV Resort
REFRESH-INTERVAL;VALUE=DURATION:PT1H
X-Robots-Tag:noindex
X-PUBLISHED-TTL:PT1H
BEGIN:VTIMEZONE
TZID:UTC
BEGIN:STANDARD
TZOFFSETFROM:+0000
TZOFFSETTO:+0000
TZNAME:UTC
DTSTART:20240101T000000
END:STANDARD
END:VTIMEZONE
BEGIN:VEVENT
DTSTART;VALUE=DATE:20250831
DTEND;VALUE=DATE:20250901
DTSTAMP:20260420T121627
CREATED:20250507T165519Z
LAST-MODIFIED:20250507T165519Z
UID:718-1756598400-1756684799@hiddenlakesrv.com
SUMMARY:S'mores & Community Bonfire
DESCRIPTION:
URL:https://hiddenlakesrv.com/event/smores-community-bonfire-3/
END:VEVENT
BEGIN:VEVENT
DTSTART;VALUE=DATE:20250831
DTEND;VALUE=DATE:20250901
DTSTAMP:20260420T121627
CREATED:20250507T165459Z
LAST-MODIFIED:20250507T165459Z
UID:716-1756598400-1756684799@hiddenlakesrv.com
SUMMARY:Bounce House
DESCRIPTION:
URL:https://hiddenlakesrv.com/event/bounce-house-5/
END:VEVENT
BEGIN:VEVENT
DTSTART;VALUE=DATE:20250831
DTEND;VALUE=DATE:20250901
DTSTAMP:20260420T121627
CREATED:20250507T165440Z
LAST-MODIFIED:20250507T165440Z
UID:714-1756598400-1756684799@hiddenlakesrv.com
SUMMARY:Tie Dying
DESCRIPTION:
URL:https://hiddenlakesrv.com/event/tie-dying-2/
END:VEVENT
BEGIN:VEVENT
DTSTART;VALUE=DATE:20250830
DTEND;VALUE=DATE:20250831
DTSTAMP:20260420T121627
CREATED:20250507T165421Z
LAST-MODIFIED:20250507T165421Z
UID:712-1756512000-1756598399@hiddenlakesrv.com
SUMMARY:Bourbon Tasting
DESCRIPTION:
URL:https://hiddenlakesrv.com/event/bourbon-tasting-5/
END:VEVENT
BEGIN:VEVENT
DTSTART;VALUE=DATE:20250830
DTEND;VALUE=DATE:20250831
DTSTAMP:20260420T121627
CREATED:20250507T165406Z
LAST-MODIFIED:20250507T165406Z
UID:710-1756512000-1756598399@hiddenlakesrv.com
SUMMARY:Hayride
DESCRIPTION:
URL:https://hiddenlakesrv.com/event/hayride-19/
END:VEVENT
BEGIN:VEVENT
DTSTART;VALUE=DATE:20250830
DTEND;VALUE=DATE:20250831
DTSTAMP:20260420T121627
CREATED:20250507T165352Z
LAST-MODIFIED:20250507T165352Z
UID:708-1756512000-1756598399@hiddenlakesrv.com
SUMMARY:Horseshoes
DESCRIPTION:
URL:https://hiddenlakesrv.com/event/horseshoes-2/
END:VEVENT
BEGIN:VEVENT
DTSTART;VALUE=DATE:20250830
DTEND;VALUE=DATE:20250831
DTSTAMP:20260420T121627
CREATED:20250507T165335Z
LAST-MODIFIED:20250507T165335Z
UID:706-1756512000-1756598399@hiddenlakesrv.com
SUMMARY:Yard Games
DESCRIPTION:
URL:https://hiddenlakesrv.com/event/yard-games-2/
END:VEVENT
BEGIN:VEVENT
DTSTART;VALUE=DATE:20250829
DTEND;VALUE=DATE:20250830
DTSTAMP:20260420T121627
CREATED:20250507T165318Z
LAST-MODIFIED:20250507T165318Z
UID:704-1756425600-1756511999@hiddenlakesrv.com
SUMMARY:S'mores & Community Bonfire
DESCRIPTION:
URL:https://hiddenlakesrv.com/event/smores-community-bonfire-2/
END:VEVENT
BEGIN:VEVENT
DTSTART;VALUE=DATE:20250823
DTEND;VALUE=DATE:20250824
DTSTAMP:20260420T121627
CREATED:20250507T165250Z
LAST-MODIFIED:20250507T165250Z
UID:702-1755907200-1755993599@hiddenlakesrv.com
SUMMARY:Community Bonfire
DESCRIPTION:
URL:https://hiddenlakesrv.com/event/community-bonfire-2/
END:VEVENT
BEGIN:VEVENT
DTSTART;VALUE=DATE:20250823
DTEND;VALUE=DATE:20250824
DTSTAMP:20260420T121627
CREATED:20250507T165211Z
LAST-MODIFIED:20250507T165211Z
UID:698-1755907200-1755993599@hiddenlakesrv.com
SUMMARY:Hayride
DESCRIPTION:
URL:https://hiddenlakesrv.com/event/hayride-18/
END:VEVENT
BEGIN:VEVENT
DTSTART;VALUE=DATE:20250823
DTEND;VALUE=DATE:20250824
DTSTAMP:20260420T121627
CREATED:20250507T165146Z
LAST-MODIFIED:20250507T165146Z
UID:696-1755907200-1755993599@hiddenlakesrv.com
SUMMARY:Craft
DESCRIPTION:
URL:https://hiddenlakesrv.com/event/craft/
END:VEVENT
BEGIN:VEVENT
DTSTART;VALUE=DATE:20250817
DTEND;VALUE=DATE:20250818
DTSTAMP:20260420T121627
CREATED:20250507T165117Z
LAST-MODIFIED:20250507T165117Z
UID:694-1755388800-1755475199@hiddenlakesrv.com
SUMMARY:Breakfast
DESCRIPTION:
URL:https://hiddenlakesrv.com/event/breakfast-13/
END:VEVENT
BEGIN:VEVENT
DTSTART;VALUE=DATE:20250816
DTEND;VALUE=DATE:20250817
DTSTAMP:20260420T121627
CREATED:20250507T165053Z
LAST-MODIFIED:20250717T124758Z
UID:692-1755302400-1755388799@hiddenlakesrv.com
SUMMARY:Euchre Night
DESCRIPTION:
URL:https://hiddenlakesrv.com/event/euchre-night-hard-cider/
END:VEVENT
BEGIN:VEVENT
DTSTART;VALUE=DATE:20250816
DTEND;VALUE=DATE:20250817
DTSTAMP:20260420T121627
CREATED:20250507T165021Z
LAST-MODIFIED:20250507T165021Z
UID:690-1755302400-1755388799@hiddenlakesrv.com
SUMMARY:Dodgeball
DESCRIPTION:
URL:https://hiddenlakesrv.com/event/dodgeball/
END:VEVENT
BEGIN:VEVENT
DTSTART;VALUE=DATE:20250816
DTEND;VALUE=DATE:20250817
DTSTAMP:20260420T121627
CREATED:20250507T164933Z
LAST-MODIFIED:20250507T164933Z
UID:688-1755302400-1755388799@hiddenlakesrv.com
SUMMARY:Hayride
DESCRIPTION:
URL:https://hiddenlakesrv.com/event/hayride-17/
END:VEVENT
BEGIN:VEVENT
DTSTART;VALUE=DATE:20250816
DTEND;VALUE=DATE:20250817
DTSTAMP:20260420T121627
CREATED:20250507T164916Z
LAST-MODIFIED:20250507T164916Z
UID:686-1755302400-1755388799@hiddenlakesrv.com
SUMMARY:Bounce House
DESCRIPTION:
URL:https://hiddenlakesrv.com/event/bounce-house-4/
END:VEVENT
BEGIN:VEVENT
DTSTART;VALUE=DATE:20250809
DTEND;VALUE=DATE:20250810
DTSTAMP:20260420T121627
CREATED:20250507T164856Z
LAST-MODIFIED:20250507T164856Z
UID:684-1754697600-1754783999@hiddenlakesrv.com
SUMMARY:Dance Party
DESCRIPTION:
URL:https://hiddenlakesrv.com/event/dance-party/
END:VEVENT
BEGIN:VEVENT
DTSTART;VALUE=DATE:20250809
DTEND;VALUE=DATE:20250810
DTSTAMP:20260420T121627
CREATED:20250507T164810Z
LAST-MODIFIED:20250507T164810Z
UID:682-1754697600-1754783999@hiddenlakesrv.com
SUMMARY:Wine Tasting
DESCRIPTION:
URL:https://hiddenlakesrv.com/event/wine-tasting-15/
END:VEVENT
BEGIN:VEVENT
DTSTART;VALUE=DATE:20250809
DTEND;VALUE=DATE:20250810
DTSTAMP:20260420T121627
CREATED:20250507T164754Z
LAST-MODIFIED:20250507T164754Z
UID:680-1754697600-1754783999@hiddenlakesrv.com
SUMMARY:Hayride
DESCRIPTION:
URL:https://hiddenlakesrv.com/event/hayride-16/
END:VEVENT
BEGIN:VEVENT
DTSTART;VALUE=DATE:20250809
DTEND;VALUE=DATE:20250810
DTSTAMP:20260420T121627
CREATED:20250507T164658Z
LAST-MODIFIED:20250507T164658Z
UID:676-1754697600-1754783999@hiddenlakesrv.com
SUMMARY:Bounce House
DESCRIPTION:
URL:https://hiddenlakesrv.com/event/bounce-house-3/
END:VEVENT
BEGIN:VEVENT
DTSTART;VALUE=DATE:20250803
DTEND;VALUE=DATE:20250804
DTSTAMP:20260420T121627
CREATED:20250507T164630Z
LAST-MODIFIED:20250507T164630Z
UID:674-1754179200-1754265599@hiddenlakesrv.com
SUMMARY:Breakfast
DESCRIPTION:
URL:https://hiddenlakesrv.com/event/breakfast-12/
END:VEVENT
BEGIN:VEVENT
DTSTART;VALUE=DATE:20250802
DTEND;VALUE=DATE:20250803
DTSTAMP:20260420T121627
CREATED:20250507T164610Z
LAST-MODIFIED:20250507T164610Z
UID:672-1754092800-1754179199@hiddenlakesrv.com
SUMMARY:Bourbon Tasting
DESCRIPTION:
URL:https://hiddenlakesrv.com/event/bourbon-tasting-4/
END:VEVENT
BEGIN:VEVENT
DTSTART;VALUE=DATE:20250802
DTEND;VALUE=DATE:20250803
DTSTAMP:20260420T121627
CREATED:20250507T164549Z
LAST-MODIFIED:20250507T164549Z
UID:670-1754092800-1754179199@hiddenlakesrv.com
SUMMARY:Hayride
DESCRIPTION:
URL:https://hiddenlakesrv.com/event/hayride-15/
END:VEVENT
BEGIN:VEVENT
DTSTART;VALUE=DATE:20250802
DTEND;VALUE=DATE:20250803
DTSTAMP:20260420T121627
CREATED:20250507T164523Z
LAST-MODIFIED:20250507T164523Z
UID:668-1754092800-1754179199@hiddenlakesrv.com
SUMMARY:Pool Party & Cookout
DESCRIPTION:
URL:https://hiddenlakesrv.com/event/pool-party-cookout/
END:VEVENT
BEGIN:VEVENT
DTSTART;VALUE=DATE:20250726
DTEND;VALUE=DATE:20250727
DTSTAMP:20260420T121627
CREATED:20250724T115221Z
LAST-MODIFIED:20250724T115221Z
UID:980-1753488000-1753574399@hiddenlakesrv.com
SUMMARY:Christmas Karaoke
DESCRIPTION:
URL:https://hiddenlakesrv.com/event/christmas-karaoke/
END:VEVENT
BEGIN:VEVENT
DTSTART;VALUE=DATE:20250726
DTEND;VALUE=DATE:20250727
DTSTAMP:20260420T121627
CREATED:20250507T134343Z
LAST-MODIFIED:20250507T134343Z
UID:664-1753488000-1753574399@hiddenlakesrv.com
SUMMARY:Hayride
DESCRIPTION:
URL:https://hiddenlakesrv.com/event/hayride-14/
END:VEVENT
BEGIN:VEVENT
DTSTART;VALUE=DATE:20250726
DTEND;VALUE=DATE:20250727
DTSTAMP:20260420T121627
CREATED:20250507T134329Z
LAST-MODIFIED:20250724T115129Z
UID:662-1753488000-1753574399@hiddenlakesrv.com
SUMMARY:Snowball Fight in July
DESCRIPTION:
URL:https://hiddenlakesrv.com/event/reindeer-games/
END:VEVENT
BEGIN:VEVENT
DTSTART;VALUE=DATE:20250726
DTEND;VALUE=DATE:20250727
DTSTAMP:20260420T121627
CREATED:20250507T134313Z
LAST-MODIFIED:20250507T134313Z
UID:660-1753488000-1753574399@hiddenlakesrv.com
SUMMARY:Ornament Craft
DESCRIPTION:
URL:https://hiddenlakesrv.com/event/ornament-craft/
END:VEVENT
BEGIN:VEVENT
DTSTART;VALUE=DATE:20250726
DTEND;VALUE=DATE:20250727
DTSTAMP:20260420T121627
CREATED:20250507T134227Z
LAST-MODIFIED:20250724T115143Z
UID:654-1753488000-1753574399@hiddenlakesrv.com
SUMMARY:Decorate a Christmas Cookie
DESCRIPTION:
URL:https://hiddenlakesrv.com/event/christmas-in-july-2/
END:VEVENT
BEGIN:VEVENT
DTSTART;VALUE=DATE:20250720
DTEND;VALUE=DATE:20250721
DTSTAMP:20260420T121627
CREATED:20250507T134202Z
LAST-MODIFIED:20250507T134202Z
UID:652-1752969600-1753055999@hiddenlakesrv.com
SUMMARY:Breakfast
DESCRIPTION:
URL:https://hiddenlakesrv.com/event/breakfast-11/
END:VEVENT
END:VCALENDAR