BEGIN:VCALENDAR
VERSION:2.0
PRODID:-//Hidden Lakes RV Resort - ECPv6.15.20//NONSGML v1.0//EN
CALSCALE:GREGORIAN
METHOD:PUBLISH
X-ORIGINAL-URL:https://hiddenlakesrv.com
X-WR-CALDESC:Events for Hidden Lakes RV Resort
REFRESH-INTERVAL;VALUE=DURATION:PT1H
X-Robots-Tag:noindex
X-PUBLISHED-TTL:PT1H
BEGIN:VTIMEZONE
TZID:UTC
BEGIN:STANDARD
TZOFFSETFROM:+0000
TZOFFSETTO:+0000
TZNAME:UTC
DTSTART:20240101T000000
END:STANDARD
END:VTIMEZONE
BEGIN:VEVENT
DTSTART;VALUE=DATE:20250704
DTEND;VALUE=DATE:20250705
DTSTAMP:20260422T113259
CREATED:20250507T133825Z
LAST-MODIFIED:20250507T133825Z
UID:628-1751587200-1751673599@hiddenlakesrv.com
SUMMARY:Cornhole Tournament
DESCRIPTION:
URL:https://hiddenlakesrv.com/event/cornhole-tournament-3/
END:VEVENT
BEGIN:VEVENT
DTSTART;VALUE=DATE:20250704
DTEND;VALUE=DATE:20250705
DTSTAMP:20260422T113259
CREATED:20250507T133750Z
LAST-MODIFIED:20250507T133750Z
UID:626-1751587200-1751673599@hiddenlakesrv.com
SUMMARY:Golf Cart Parade
DESCRIPTION:
URL:https://hiddenlakesrv.com/event/golf-cart-parade/
END:VEVENT
BEGIN:VEVENT
DTSTART;VALUE=DATE:20250703
DTEND;VALUE=DATE:20250704
DTSTAMP:20260422T113259
CREATED:20250507T133714Z
LAST-MODIFIED:20250507T133714Z
UID:624-1751500800-1751587199@hiddenlakesrv.com
SUMMARY:S'mores Community Bonfire
DESCRIPTION:
URL:https://hiddenlakesrv.com/event/smores-community-bonfire/
END:VEVENT
BEGIN:VEVENT
DTSTART;VALUE=DATE:20250628
DTEND;VALUE=DATE:20250629
DTSTAMP:20260422T113259
CREATED:20250507T133644Z
LAST-MODIFIED:20250507T133644Z
UID:622-1751068800-1751155199@hiddenlakesrv.com
SUMMARY:Bingo
DESCRIPTION:
URL:https://hiddenlakesrv.com/event/bingo/
END:VEVENT
BEGIN:VEVENT
DTSTART;VALUE=DATE:20250628
DTEND;VALUE=DATE:20250629
DTSTAMP:20260422T113259
CREATED:20250507T133633Z
LAST-MODIFIED:20250507T133633Z
UID:620-1751068800-1751155199@hiddenlakesrv.com
SUMMARY:Hayride
DESCRIPTION:
URL:https://hiddenlakesrv.com/event/hayride-10/
END:VEVENT
BEGIN:VEVENT
DTSTART;VALUE=DATE:20250628
DTEND;VALUE=DATE:20250629
DTSTAMP:20260422T113259
CREATED:20250507T133620Z
LAST-MODIFIED:20250507T133620Z
UID:618-1751068800-1751155199@hiddenlakesrv.com
SUMMARY:Horseshoes
DESCRIPTION:
URL:https://hiddenlakesrv.com/event/horseshoes/
END:VEVENT
BEGIN:VEVENT
DTSTART;VALUE=DATE:20250628
DTEND;VALUE=DATE:20250629
DTSTAMP:20260422T113259
CREATED:20250507T133557Z
LAST-MODIFIED:20250507T133557Z
UID:616-1751068800-1751155199@hiddenlakesrv.com
SUMMARY:Yard Games
DESCRIPTION:
URL:https://hiddenlakesrv.com/event/yard-games/
END:VEVENT
BEGIN:VEVENT
DTSTART;VALUE=DATE:20250628
DTEND;VALUE=DATE:20250629
DTSTAMP:20260422T113259
CREATED:20250507T133542Z
LAST-MODIFIED:20250507T133542Z
UID:614-1751068800-1751155199@hiddenlakesrv.com
SUMMARY:Free Throw Shootout
DESCRIPTION:
URL:https://hiddenlakesrv.com/event/free-throw-shootout/
END:VEVENT
BEGIN:VEVENT
DTSTART;VALUE=DATE:20250621
DTEND;VALUE=DATE:20250622
DTSTAMP:20260422T113259
CREATED:20250507T133524Z
LAST-MODIFIED:20250507T133524Z
UID:612-1750464000-1750550399@hiddenlakesrv.com
SUMMARY:Dance Party with DJ Wally
DESCRIPTION:
URL:https://hiddenlakesrv.com/event/dance-party-with-dj-wally/
END:VEVENT
BEGIN:VEVENT
DTSTART;VALUE=DATE:20250621
DTEND;VALUE=DATE:20250622
DTSTAMP:20260422T113259
CREATED:20250507T133506Z
LAST-MODIFIED:20250507T133506Z
UID:610-1750464000-1750550399@hiddenlakesrv.com
SUMMARY:Hayride
DESCRIPTION:
URL:https://hiddenlakesrv.com/event/hayride-9/
END:VEVENT
BEGIN:VEVENT
DTSTART;VALUE=DATE:20250621
DTEND;VALUE=DATE:20250622
DTSTAMP:20260422T113259
CREATED:20250507T133453Z
LAST-MODIFIED:20250507T133453Z
UID:608-1750464000-1750550399@hiddenlakesrv.com
SUMMARY:Ice Cream Social
DESCRIPTION:
URL:https://hiddenlakesrv.com/event/ice-cream-social-2/
END:VEVENT
BEGIN:VEVENT
DTSTART;VALUE=DATE:20250621
DTEND;VALUE=DATE:20250622
DTSTAMP:20260422T113259
CREATED:20250507T133435Z
LAST-MODIFIED:20250507T133435Z
UID:606-1750464000-1750550399@hiddenlakesrv.com
SUMMARY:Bounce House
DESCRIPTION:
URL:https://hiddenlakesrv.com/event/bounce-house-2/
END:VEVENT
BEGIN:VEVENT
DTSTART;VALUE=DATE:20250615
DTEND;VALUE=DATE:20250616
DTSTAMP:20260422T113259
CREATED:20250507T133417Z
LAST-MODIFIED:20250507T133417Z
UID:604-1749945600-1750031999@hiddenlakesrv.com
SUMMARY:Father's Day Breakfast
DESCRIPTION:
URL:https://hiddenlakesrv.com/event/fathers-day-breakfast-2/
END:VEVENT
BEGIN:VEVENT
DTSTART;VALUE=DATE:20250614
DTEND;VALUE=DATE:20250615
DTSTAMP:20260422T113259
CREATED:20250507T133401Z
LAST-MODIFIED:20250507T133401Z
UID:602-1749859200-1749945599@hiddenlakesrv.com
SUMMARY:Bourbon Tasting
DESCRIPTION:
URL:https://hiddenlakesrv.com/event/bourbon-tasting-2/
END:VEVENT
BEGIN:VEVENT
DTSTART;VALUE=DATE:20250614
DTEND;VALUE=DATE:20250615
DTSTAMP:20260422T113259
CREATED:20250507T133347Z
LAST-MODIFIED:20250507T133347Z
UID:600-1749859200-1749945599@hiddenlakesrv.com
SUMMARY:Hayride
DESCRIPTION:
URL:https://hiddenlakesrv.com/event/hayride-8/
END:VEVENT
BEGIN:VEVENT
DTSTART;VALUE=DATE:20250614
DTEND;VALUE=DATE:20250615
DTSTAMP:20260422T113259
CREATED:20250507T133325Z
LAST-MODIFIED:20250507T133325Z
UID:598-1749859200-1749945599@hiddenlakesrv.com
SUMMARY:Family Field Day
DESCRIPTION:Sack Races\, Free Throw Shootouts and More!
URL:https://hiddenlakesrv.com/event/family-field-day/
END:VEVENT
BEGIN:VEVENT
DTSTART;VALUE=DATE:20250608
DTEND;VALUE=DATE:20250609
DTSTAMP:20260422T113259
CREATED:20250507T133251Z
LAST-MODIFIED:20250507T133251Z
UID:596-1749340800-1749427199@hiddenlakesrv.com
SUMMARY:Breakfast
DESCRIPTION:
URL:https://hiddenlakesrv.com/event/breakfast-9/
END:VEVENT
BEGIN:VEVENT
DTSTART;VALUE=DATE:20250607
DTEND;VALUE=DATE:20250608
DTSTAMP:20260422T113259
CREATED:20250507T133236Z
LAST-MODIFIED:20250507T133236Z
UID:594-1749254400-1749340799@hiddenlakesrv.com
SUMMARY:Talent Show
DESCRIPTION:
URL:https://hiddenlakesrv.com/event/talent-show/
END:VEVENT
BEGIN:VEVENT
DTSTART;VALUE=DATE:20250607
DTEND;VALUE=DATE:20250608
DTSTAMP:20260422T113259
CREATED:20250507T133221Z
LAST-MODIFIED:20250507T133221Z
UID:592-1749254400-1749340799@hiddenlakesrv.com
SUMMARY:Hayride
DESCRIPTION:
URL:https://hiddenlakesrv.com/event/hayride/
END:VEVENT
BEGIN:VEVENT
DTSTART;VALUE=DATE:20250607
DTEND;VALUE=DATE:20250608
DTSTAMP:20260422T113259
CREATED:20250507T133206Z
LAST-MODIFIED:20250507T133206Z
UID:590-1749254400-1749340799@hiddenlakesrv.com
SUMMARY:Fishing Tournament
DESCRIPTION:
URL:https://hiddenlakesrv.com/event/fishing-tournament-2/
END:VEVENT
BEGIN:VEVENT
DTSTART;VALUE=DATE:20250531
DTEND;VALUE=DATE:20250601
DTSTAMP:20260422T113259
CREATED:20250507T133136Z
LAST-MODIFIED:20250507T133136Z
UID:588-1748649600-1748735999@hiddenlakesrv.com
SUMMARY:Antique Tractor Parade
DESCRIPTION:
URL:https://hiddenlakesrv.com/event/antique-tractor-parade/
END:VEVENT
BEGIN:VEVENT
DTSTART;VALUE=DATE:20250531
DTEND;VALUE=DATE:20250601
DTSTAMP:20260422T113259
CREATED:20250323T153409Z
LAST-MODIFIED:20250507T133056Z
UID:572-1748649600-1748735999@hiddenlakesrv.com
SUMMARY:Glo Dance Party
DESCRIPTION:Kids & Parents
URL:https://hiddenlakesrv.com/event/glow-dance-party/
END:VEVENT
BEGIN:VEVENT
DTSTART;VALUE=DATE:20250531
DTEND;VALUE=DATE:20250601
DTSTAMP:20260422T113259
CREATED:20250323T153333Z
LAST-MODIFIED:20250323T153735Z
UID:570-1748649600-1748735999@hiddenlakesrv.com
SUMMARY:Hayride
DESCRIPTION:Weather Permitting
URL:https://hiddenlakesrv.com/event/hayride-7/
END:VEVENT
BEGIN:VEVENT
DTSTART;VALUE=DATE:20250526
DTEND;VALUE=DATE:20250527
DTSTAMP:20260422T113259
CREATED:20250323T153209Z
LAST-MODIFIED:20250324T215914Z
UID:564-1748217600-1748303999@hiddenlakesrv.com
SUMMARY:Breakfast
DESCRIPTION:
URL:https://hiddenlakesrv.com/event/breakfast-5/
END:VEVENT
BEGIN:VEVENT
DTSTART;VALUE=DATE:20250525
DTEND;VALUE=DATE:20250526
DTSTAMP:20260422T113259
CREATED:20250505T123344Z
LAST-MODIFIED:20250505T123344Z
UID:585-1748131200-1748217599@hiddenlakesrv.com
SUMMARY:Campfire & S'mores
DESCRIPTION:
URL:https://hiddenlakesrv.com/event/campfire-smores/
END:VEVENT
BEGIN:VEVENT
DTSTART;VALUE=DATE:20250525
DTEND;VALUE=DATE:20250526
DTSTAMP:20260422T113259
CREATED:20250505T123322Z
LAST-MODIFIED:20250505T123322Z
UID:583-1748131200-1748217599@hiddenlakesrv.com
SUMMARY:Tie Dye Craft
DESCRIPTION:
URL:https://hiddenlakesrv.com/event/tie-dye-craft/
END:VEVENT
BEGIN:VEVENT
DTSTART;VALUE=DATE:20250525
DTEND;VALUE=DATE:20250526
DTSTAMP:20260422T113259
CREATED:20250505T123305Z
LAST-MODIFIED:20250505T123305Z
UID:581-1748131200-1748217599@hiddenlakesrv.com
SUMMARY:Dodgeball Tournament
DESCRIPTION:
URL:https://hiddenlakesrv.com/event/dodgeball-tournament/
END:VEVENT
BEGIN:VEVENT
DTSTART;VALUE=DATE:20250525
DTEND;VALUE=DATE:20250526
DTSTAMP:20260422T113259
CREATED:20250323T153105Z
LAST-MODIFIED:20250323T153105Z
UID:560-1748131200-1748217599@hiddenlakesrv.com
SUMMARY:Bounce House
DESCRIPTION:
URL:https://hiddenlakesrv.com/event/bounce-house/
END:VEVENT
BEGIN:VEVENT
DTSTART;TZID=UTC:20250524T150000
DTEND;TZID=UTC:20250524T180000
DTSTAMP:20260422T113259
CREATED:20250323T153046Z
LAST-MODIFIED:20250505T123224Z
UID:558-1748098800-1748109600@hiddenlakesrv.com
SUMMARY:Live Music with Joe Rock
DESCRIPTION:
URL:https://hiddenlakesrv.com/event/live-music-dj/
END:VEVENT
BEGIN:VEVENT
DTSTART;VALUE=DATE:20250524
DTEND;VALUE=DATE:20250525
DTSTAMP:20260422T113259
CREATED:20250323T153021Z
LAST-MODIFIED:20250323T153021Z
UID:556-1748044800-1748131199@hiddenlakesrv.com
SUMMARY:Hayride
DESCRIPTION:Weather Permitting
URL:https://hiddenlakesrv.com/event/hayride-6/
END:VEVENT
END:VCALENDAR