BEGIN:VCALENDAR
VERSION:2.0
PRODID:-//Hidden Lakes RV Resort - ECPv6.15.20//NONSGML v1.0//EN
CALSCALE:GREGORIAN
METHOD:PUBLISH
X-WR-CALNAME:Hidden Lakes RV Resort
X-ORIGINAL-URL:https://hiddenlakesrv.com
X-WR-CALDESC:Events for Hidden Lakes RV Resort
REFRESH-INTERVAL;VALUE=DURATION:PT1H
X-Robots-Tag:noindex
X-PUBLISHED-TTL:PT1H
BEGIN:VTIMEZONE
TZID:UTC
BEGIN:STANDARD
TZOFFSETFROM:+0000
TZOFFSETTO:+0000
TZNAME:UTC
DTSTART:20230101T000000
END:STANDARD
END:VTIMEZONE
BEGIN:VEVENT
DTSTART;VALUE=DATE:20250503
DTEND;VALUE=DATE:20250504
DTSTAMP:20260422T142749
CREATED:20250323T152328Z
LAST-MODIFIED:20250323T152328Z
UID:530-1746230400-1746316799@hiddenlakesrv.com
SUMMARY:Pizza Party & Bingo
DESCRIPTION:
URL:https://hiddenlakesrv.com/event/pizza-party-bingo/
END:VEVENT
BEGIN:VEVENT
DTSTART;VALUE=DATE:20250503
DTEND;VALUE=DATE:20250504
DTSTAMP:20260422T142749
CREATED:20250323T152252Z
LAST-MODIFIED:20250323T152304Z
UID:527-1746230400-1746316799@hiddenlakesrv.com
SUMMARY:Hayride
DESCRIPTION:Weather Permitting
URL:https://hiddenlakesrv.com/event/hayride-3/
END:VEVENT
BEGIN:VEVENT
DTSTART;VALUE=DATE:20250503
DTEND;VALUE=DATE:20250504
DTSTAMP:20260422T142749
CREATED:20250323T152234Z
LAST-MODIFIED:20250323T152234Z
UID:525-1746230400-1746316799@hiddenlakesrv.com
SUMMARY:Kids Craft
DESCRIPTION:
URL:https://hiddenlakesrv.com/event/kids-craft-2/
END:VEVENT
BEGIN:VEVENT
DTSTART;VALUE=DATE:20250427
DTEND;VALUE=DATE:20250428
DTSTAMP:20260422T142749
CREATED:20250323T152206Z
LAST-MODIFIED:20250323T152206Z
UID:523-1745712000-1745798399@hiddenlakesrv.com
SUMMARY:Breakfast
DESCRIPTION:
URL:https://hiddenlakesrv.com/event/breakfast-4/
END:VEVENT
BEGIN:VEVENT
DTSTART;TZID=UTC:20250426T140000
DTEND;TZID=UTC:20250426T160000
DTSTAMP:20260422T142749
CREATED:20250323T151948Z
LAST-MODIFIED:20250323T151948Z
UID:513-1745676000-1745683200@hiddenlakesrv.com
SUMMARY:Open House
DESCRIPTION:
URL:https://hiddenlakesrv.com/event/open-house-2/
END:VEVENT
BEGIN:VEVENT
DTSTART;VALUE=DATE:20250426
DTEND;VALUE=DATE:20250427
DTSTAMP:20260422T142749
CREATED:20250323T152125Z
LAST-MODIFIED:20250323T152125Z
UID:521-1745625600-1745711999@hiddenlakesrv.com
SUMMARY:Wine Tasting
DESCRIPTION:
URL:https://hiddenlakesrv.com/event/wine-tasting-5/
END:VEVENT
BEGIN:VEVENT
DTSTART;VALUE=DATE:20250426
DTEND;VALUE=DATE:20250427
DTSTAMP:20260422T142749
CREATED:20250323T152106Z
LAST-MODIFIED:20250323T152106Z
UID:519-1745625600-1745711999@hiddenlakesrv.com
SUMMARY:Euchre Tournament
DESCRIPTION:
URL:https://hiddenlakesrv.com/event/euchre-tournament/
END:VEVENT
BEGIN:VEVENT
DTSTART;VALUE=DATE:20250426
DTEND;VALUE=DATE:20250427
DTSTAMP:20260422T142749
CREATED:20250323T152048Z
LAST-MODIFIED:20250323T152048Z
UID:517-1745625600-1745711999@hiddenlakesrv.com
SUMMARY:Kids Craft
DESCRIPTION:
URL:https://hiddenlakesrv.com/event/kids-craft/
END:VEVENT
BEGIN:VEVENT
DTSTART;VALUE=DATE:20250426
DTEND;VALUE=DATE:20250427
DTSTAMP:20260422T142749
CREATED:20250323T152015Z
LAST-MODIFIED:20250323T152015Z
UID:515-1745625600-1745711999@hiddenlakesrv.com
SUMMARY:Hayride
DESCRIPTION:Weather Permitting
URL:https://hiddenlakesrv.com/event/hayride-2/
END:VEVENT
BEGIN:VEVENT
DTSTART;TZID=UTC:20250419T100000
DTEND;TZID=UTC:20250420T120000
DTSTAMP:20260422T142749
CREATED:20250417T142700Z
LAST-MODIFIED:20250417T142700Z
UID:576-1745056800-1745150400@hiddenlakesrv.com
SUMMARY:Easter Weekend Schedule
DESCRIPTION:
URL:https://hiddenlakesrv.com/event/easter-weekend-schedule/
END:VEVENT
BEGIN:VEVENT
DTSTART;VALUE=DATE:20241013
DTEND;VALUE=DATE:20241014
DTSTAMP:20260422T142749
CREATED:20231121T143623Z
LAST-MODIFIED:20231121T143623Z
UID:352-1728777600-1728863999@hiddenlakesrv.com
SUMMARY:Breakfast
DESCRIPTION:
URL:https://hiddenlakesrv.com/event/breakfast-7/
LOCATION:Hidden Lakes RV Resort
END:VEVENT
BEGIN:VEVENT
DTSTART;VALUE=DATE:20241011
DTEND;VALUE=DATE:20241013
DTSTAMP:20260422T142749
CREATED:20231121T143556Z
LAST-MODIFIED:20241009T125003Z
UID:350-1728604800-1728777599@hiddenlakesrv.com
SUMMARY:Halloween Spooktacular
DESCRIPTION:🎃👻 The Halloween Spooktacular at Hidden Lakes RV Resort is officially SOLD OUT! We can’t wait to welcome all our ghoulish guests for a weekend of thrills and chills. Here’s a sneak peek at what’s in store: \nFriday\n7 PM – Spooky Campfire Stories and S’mores (Adults & Kids) – Pavilion \nSaturday\n11 AM – Pumpkin Painting (Adults & Kids) – Clubhouse\n1 PM – Golf Cart Stroll to Home Team Ice Cream (Adults & Kids) – Clubhouse\n2:30 PM – Pet Parade & Costume Contest for Pets (Pets &Pet Owners) – Pavilion\n3 PM – Kids Halloween Party & Costume Contest (Kids & Parents) – Clubhouse\n4:30 PM – Trick-or-Treating (Kids & Parents) – All Sites\n6 PM – Hayride (Adults & Kids) – Clubhouse\n8 PM – Adult Halloween Party & Costume Contest (Adults) – Clubhouse \nSunday\n10 AM – Breakfast & Site Decorating Trophy Ceremony (Adults & Kids) – Clubhouse\nGet ready for a hauntingly good time! 🎃👻
URL:https://hiddenlakesrv.com/event/halloween-spooktacular/
LOCATION:Hidden Lakes RV Resort
END:VEVENT
BEGIN:VEVENT
DTSTART;VALUE=DATE:20241005
DTEND;VALUE=DATE:20241006
DTSTAMP:20260422T142749
CREATED:20240212T143340Z
LAST-MODIFIED:20240212T143340Z
UID:388-1728086400-1728172799@hiddenlakesrv.com
SUMMARY:Wine Tasting
DESCRIPTION:
URL:https://hiddenlakesrv.com/event/wine-tasting-13/
LOCATION:Hidden Lakes RV Resort
END:VEVENT
BEGIN:VEVENT
DTSTART;VALUE=DATE:20241005
DTEND;VALUE=DATE:20241006
DTSTAMP:20260422T142749
CREATED:20231121T143435Z
LAST-MODIFIED:20231121T143435Z
UID:348-1728086400-1728172799@hiddenlakesrv.com
SUMMARY:Fall Fun
DESCRIPTION:
URL:https://hiddenlakesrv.com/event/fall-fun/
LOCATION:Hidden Lakes RV Resort
END:VEVENT
BEGIN:VEVENT
DTSTART;VALUE=DATE:20240928
DTEND;VALUE=DATE:20240929
DTSTAMP:20260422T142749
CREATED:20240212T143318Z
LAST-MODIFIED:20240212T143318Z
UID:386-1727481600-1727567999@hiddenlakesrv.com
SUMMARY:Wine Tasting
DESCRIPTION:
URL:https://hiddenlakesrv.com/event/wine-tasting-12/
LOCATION:Hidden Lakes RV Resort
END:VEVENT
BEGIN:VEVENT
DTSTART;VALUE=DATE:20240928
DTEND;VALUE=DATE:20240929
DTSTAMP:20260422T142749
CREATED:20231121T143414Z
LAST-MODIFIED:20231121T143414Z
UID:346-1727481600-1727567999@hiddenlakesrv.com
SUMMARY:Chili Cook-Off
DESCRIPTION:
URL:https://hiddenlakesrv.com/event/chili-cook-off-2/
LOCATION:Hidden Lakes RV Resort
END:VEVENT
BEGIN:VEVENT
DTSTART;VALUE=DATE:20240921
DTEND;VALUE=DATE:20240922
DTSTAMP:20260422T142749
CREATED:20231121T143320Z
LAST-MODIFIED:20231121T161959Z
UID:342-1726876800-1726963199@hiddenlakesrv.com
SUMMARY:Murder Mystery
DESCRIPTION:“Video Killed the Radiostar” Performed by “Moonlight\, Music and Mystery”
URL:https://hiddenlakesrv.com/event/murder-mystery/
LOCATION:Hidden Lakes RV Resort
END:VEVENT
BEGIN:VEVENT
DTSTART;VALUE=DATE:20240915
DTEND;VALUE=DATE:20240916
DTSTAMP:20260422T142749
CREATED:20231121T143347Z
LAST-MODIFIED:20240819T133450Z
UID:344-1726358400-1726444799@hiddenlakesrv.com
SUMMARY:Breakfast
DESCRIPTION:
URL:https://hiddenlakesrv.com/event/breakfast-6/
LOCATION:Hidden Lakes RV Resort
END:VEVENT
BEGIN:VEVENT
DTSTART;VALUE=DATE:20240914
DTEND;VALUE=DATE:20240915
DTSTAMP:20260422T142749
CREATED:20231121T143234Z
LAST-MODIFIED:20231121T143234Z
UID:340-1726272000-1726358399@hiddenlakesrv.com
SUMMARY:Wine Tasting
DESCRIPTION:
URL:https://hiddenlakesrv.com/event/wine-tasting/
LOCATION:Hidden Lakes RV Resort
END:VEVENT
BEGIN:VEVENT
DTSTART;VALUE=DATE:20240907
DTEND;VALUE=DATE:20240908
DTSTAMP:20260422T142749
CREATED:20240502T195122Z
LAST-MODIFIED:20240502T195122Z
UID:414-1725667200-1725753599@hiddenlakesrv.com
SUMMARY:Pig Roast
DESCRIPTION:
URL:https://hiddenlakesrv.com/event/pig-roast/
LOCATION:Hidden Lakes RV Resort
END:VEVENT
BEGIN:VEVENT
DTSTART;VALUE=DATE:20240830
DTEND;VALUE=DATE:20240903
DTSTAMP:20260422T142749
CREATED:20240424T194239Z
LAST-MODIFIED:20240809T123126Z
UID:403-1724976000-1725321599@hiddenlakesrv.com
SUMMARY:Labor Day Events
DESCRIPTION:Friday August 30th\n7:00 – S’mores at the Community Fire Pit \nSaturday August 31st\n1:00 – Tie Dye behind the Clubhouse\n4:00 – Live Music & Food Truck at the Pavilion\n9:00 – Adult Glow Pool Party \nSunday September 1st\n11:00 – Water Wars\n3:00 – Craft in the Clubhouse\n6:00 – Euchre Tournament in the Clubhouse \nMonday September 2nd\n10:00 – Breakfast in the Clubhouse
URL:https://hiddenlakesrv.com/event/labor-day-events/
END:VEVENT
BEGIN:VEVENT
DTSTART;VALUE=DATE:20240824
DTEND;VALUE=DATE:20240825
DTSTAMP:20260422T142749
CREATED:20240212T143234Z
LAST-MODIFIED:20240212T143234Z
UID:382-1724457600-1724543999@hiddenlakesrv.com
SUMMARY:Wine Tasting
DESCRIPTION:
URL:https://hiddenlakesrv.com/event/wine-tasting-10/
LOCATION:Hidden Lakes RV Resort
END:VEVENT
BEGIN:VEVENT
DTSTART;VALUE=DATE:20240824
DTEND;VALUE=DATE:20240825
DTSTAMP:20260422T142749
CREATED:20231121T143036Z
LAST-MODIFIED:20231121T143036Z
UID:332-1724457600-1724543999@hiddenlakesrv.com
SUMMARY:Touch-A-Truck
DESCRIPTION:
URL:https://hiddenlakesrv.com/event/touch-a-truck/
LOCATION:Hidden Lakes RV Resort
END:VEVENT
BEGIN:VEVENT
DTSTART;VALUE=DATE:20240817
DTEND;VALUE=DATE:20240818
DTSTAMP:20260422T142749
CREATED:20231121T142945Z
LAST-MODIFIED:20231121T142945Z
UID:328-1723852800-1723939199@hiddenlakesrv.com
SUMMARY:Trivia Night
DESCRIPTION:
URL:https://hiddenlakesrv.com/event/trivia-night/
LOCATION:Hidden Lakes RV Resort
END:VEVENT
BEGIN:VEVENT
DTSTART;VALUE=DATE:20240810
DTEND;VALUE=DATE:20240811
DTSTAMP:20260422T142749
CREATED:20240212T143215Z
LAST-MODIFIED:20240212T143215Z
UID:380-1723248000-1723334399@hiddenlakesrv.com
SUMMARY:Wine Tasting
DESCRIPTION:
URL:https://hiddenlakesrv.com/event/wine-tasting-9/
LOCATION:Hidden Lakes RV Resort
END:VEVENT
BEGIN:VEVENT
DTSTART;TZID=UTC:20240809T180000
DTEND;TZID=UTC:20240809T200000
DTSTAMP:20260422T142749
CREATED:20240731T180514Z
LAST-MODIFIED:20240731T180514Z
UID:474-1723226400-1723233600@hiddenlakesrv.com
SUMMARY:Pool Party!
DESCRIPTION:
URL:https://hiddenlakesrv.com/event/pool-party/
END:VEVENT
BEGIN:VEVENT
DTSTART;VALUE=DATE:20240809
DTEND;VALUE=DATE:20240813
DTSTAMP:20260422T142749
CREATED:20231121T142925Z
LAST-MODIFIED:20240801T144641Z
UID:326-1723161600-1723507199@hiddenlakesrv.com
SUMMARY:Hidden Lake Olympics
DESCRIPTION:Friday August 9th 6pm – Pool Party\nSaturday August 10th 11:00 AM – Olympic Games for All Ages\nSaturday August 10th 3:00 PM – 5:00 PM Team Scavenger Hunt\nSaturday August 10th 7:00 PM – Wine Tasting
URL:https://hiddenlakesrv.com/event/field-day-for-all-ages/
LOCATION:Hidden Lakes RV Resort
END:VEVENT
BEGIN:VEVENT
DTSTART;VALUE=DATE:20240804
DTEND;VALUE=DATE:20240805
DTSTAMP:20260422T142749
CREATED:20231121T142859Z
LAST-MODIFIED:20240729T143632Z
UID:324-1722729600-1722815999@hiddenlakesrv.com
SUMMARY:Breakfast
DESCRIPTION:Breakfast at the Clubhouse at 10:00am
URL:https://hiddenlakesrv.com/event/breakfast-3/
LOCATION:Hidden Lakes RV Resort
END:VEVENT
BEGIN:VEVENT
DTSTART;VALUE=DATE:20240803
DTEND;VALUE=DATE:20240804
DTSTAMP:20260422T142749
CREATED:20231121T142839Z
LAST-MODIFIED:20240729T143701Z
UID:322-1722643200-1722729599@hiddenlakesrv.com
SUMMARY:Live Entertainment with Gruv'n
DESCRIPTION:Come enjoy live music from Gruv’n from 6:00pm – 9:00pm
URL:https://hiddenlakesrv.com/event/live-entertainment-with-gruvn/
LOCATION:Hidden Lakes RV Resort
END:VEVENT
BEGIN:VEVENT
DTSTART;VALUE=DATE:20240727
DTEND;VALUE=DATE:20240728
DTSTAMP:20260422T142749
CREATED:20231121T142812Z
LAST-MODIFIED:20240725T211229Z
UID:320-1722038400-1722124799@hiddenlakesrv.com
SUMMARY:Dog Days of Summer
DESCRIPTION:1:00 – Dog Toy Craft in the Clubhouse\n6:00 – Picnic in Pavilion (Dogs Welcome!)\n7:30 – Dog Parage & Costume Contest
URL:https://hiddenlakesrv.com/event/dog-days-of-summer/
LOCATION:Hidden Lakes RV Resort
END:VEVENT
END:VCALENDAR