BEGIN:VCALENDAR
VERSION:2.0
PRODID:-//Hidden Lakes RV Resort - ECPv6.15.20//NONSGML v1.0//EN
CALSCALE:GREGORIAN
METHOD:PUBLISH
X-ORIGINAL-URL:https://hiddenlakesrv.com
X-WR-CALDESC:Events for Hidden Lakes RV Resort
REFRESH-INTERVAL;VALUE=DURATION:PT1H
X-Robots-Tag:noindex
X-PUBLISHED-TTL:PT1H
BEGIN:VTIMEZONE
TZID:UTC
BEGIN:STANDARD
TZOFFSETFROM:+0000
TZOFFSETTO:+0000
TZNAME:UTC
DTSTART:20220101T000000
END:STANDARD
END:VTIMEZONE
BEGIN:VEVENT
DTSTART;TZID=UTC:20240413T120000
DTEND;TZID=UTC:20240413T160000
DTSTAMP:20260422T184039
CREATED:20240205T202712Z
LAST-MODIFIED:20240205T202712Z
UID:367-1713009600-1713024000@hiddenlakesrv.com
SUMMARY:Open House!
DESCRIPTION:
URL:https://hiddenlakesrv.com/event/open-house/
LOCATION:Hidden Lakes RV Resort
END:VEVENT
BEGIN:VEVENT
DTSTART;VALUE=DATE:20231014
DTEND;VALUE=DATE:20231015
DTSTAMP:20260422T184039
CREATED:20230921T134425Z
LAST-MODIFIED:20230921T134425Z
UID:262-1697241600-1697327999@hiddenlakesrv.com
SUMMARY:Chili Cook-Off
DESCRIPTION:Join us on October for a chili cook-off and live entertainment from Gruv’n!
URL:https://hiddenlakesrv.com/event/chili-cook-off/
LOCATION:Hidden Lakes RV Resort
END:VEVENT
BEGIN:VEVENT
DTSTART;TZID=UTC:20230930T140000
DTEND;TZID=UTC:20230930T160000
DTSTAMP:20260422T184039
CREATED:20230921T134337Z
LAST-MODIFIED:20230921T134337Z
UID:260-1696082400-1696089600@hiddenlakesrv.com
SUMMARY:Hidden Lakes RV Resort Halloween Party
DESCRIPTION:Join us for our Halloween party! Full of fun activities\, this event is open to the public. \n Pumpkin Painting\n Costume Contests\n Trick-or-Treating\n And More!
URL:https://hiddenlakesrv.com/event/hidden-lakes-rv-resort-halloween-party/
LOCATION:Hidden Lakes RV Resort
END:VEVENT
BEGIN:VEVENT
DTSTART;VALUE=DATE:20230925
DTEND;VALUE=DATE:20230930
DTSTAMP:20260422T184039
CREATED:20230921T133926Z
LAST-MODIFIED:20230921T133926Z
UID:255-1695600000-1696031999@hiddenlakesrv.com
SUMMARY:Goose Living in an RV at Hidden Lakes
DESCRIPTION:W4 Country Radio Station will be broadcasting from Hidden Lakes! Hidden Lakes RV Resort will be open to the public during broadcast hours. Tune in for giveaways! \nBroadcast Hours:\nMonday – Friday 3:00pm – 7:00pm
URL:https://hiddenlakesrv.com/event/goose-living-in-an-rv-at-hidden-lakes/
LOCATION:Hidden Lakes RV Resort
END:VEVENT
BEGIN:VEVENT
DTSTART;VALUE=DATE:20230921
DTEND;VALUE=DATE:20230925
DTSTAMP:20260422T184039
CREATED:20230921T133237Z
LAST-MODIFIED:20230921T134107Z
UID:246-1695254400-1695599999@hiddenlakesrv.com
SUMMARY:Larry's RV Show
DESCRIPTION:Want to win a free weekend of camping? All you have to do is visit us at Larry’s RV Show at the Jackson County Fairgrounds. \nThe RV Show hours are: \nThursday\, Sept. 21 2:00-7:00\nFriday\, Sept. 22 2:00-7:00\nSaturday\, Sept. 23 11:00-7:00\nSunday\, Sept. 24 11:00-5:00
URL:https://hiddenlakesrv.com/event/larrys-rv-show/
LOCATION:Jackson County Fairgrounds
END:VEVENT
END:VCALENDAR