BEGIN:VCALENDAR
VERSION:2.0
PRODID:-//Hidden Lakes RV Resort - ECPv6.15.20//NONSGML v1.0//EN
CALSCALE:GREGORIAN
METHOD:PUBLISH
X-WR-CALNAME:Hidden Lakes RV Resort
X-ORIGINAL-URL:https://hiddenlakesrv.com
X-WR-CALDESC:Events for Hidden Lakes RV Resort
REFRESH-INTERVAL;VALUE=DURATION:PT1H
X-Robots-Tag:noindex
X-PUBLISHED-TTL:PT1H
BEGIN:VTIMEZONE
TZID:UTC
BEGIN:STANDARD
TZOFFSETFROM:+0000
TZOFFSETTO:+0000
TZNAME:UTC
DTSTART:20250101T000000
END:STANDARD
END:VTIMEZONE
BEGIN:VEVENT
DTSTART;VALUE=DATE:20260424
DTEND;VALUE=DATE:20260427
DTSTAMP:20260422T112159
CREATED:20260401T191606Z
LAST-MODIFIED:20260422T104116Z
UID:1248-1776988800-1777247999@hiddenlakesrv.com
SUMMARY:April 24th-26th
DESCRIPTION:Saturday April 25th\n \nDreamcatcher Craft \nHayrides – weather permitting -Bill\nLocal Spirits Tastings 
URL:https://hiddenlakesrv.com/event/april-24th-26th/
END:VEVENT
END:VCALENDAR